BEGIN:VCALENDAR
VERSION:2.0
PRODID:-//Connecticut Gay &amp; Lesbian Chamber of Commerce - ECPv6.15.20//NONSGML v1.0//EN
CALSCALE:GREGORIAN
METHOD:PUBLISH
X-WR-CALNAME:Connecticut Gay &amp; Lesbian Chamber of Commerce
X-ORIGINAL-URL:https://ctglc.org
X-WR-CALDESC:Events for Connecticut Gay &amp; Lesbian Chamber of Commerce
REFRESH-INTERVAL;VALUE=DURATION:PT1H
X-Robots-Tag:noindex
X-PUBLISHED-TTL:PT1H
BEGIN:VTIMEZONE
TZID:America/New_York
BEGIN:DAYLIGHT
TZOFFSETFROM:-0500
TZOFFSETTO:-0400
TZNAME:EDT
DTSTART:20240310T070000
END:DAYLIGHT
BEGIN:STANDARD
TZOFFSETFROM:-0400
TZOFFSETTO:-0500
TZNAME:EST
DTSTART:20241103T060000
END:STANDARD
BEGIN:DAYLIGHT
TZOFFSETFROM:-0500
TZOFFSETTO:-0400
TZNAME:EDT
DTSTART:20250309T070000
END:DAYLIGHT
BEGIN:STANDARD
TZOFFSETFROM:-0400
TZOFFSETTO:-0500
TZNAME:EST
DTSTART:20251102T060000
END:STANDARD
BEGIN:DAYLIGHT
TZOFFSETFROM:-0500
TZOFFSETTO:-0400
TZNAME:EDT
DTSTART:20260308T070000
END:DAYLIGHT
BEGIN:STANDARD
TZOFFSETFROM:-0400
TZOFFSETTO:-0500
TZNAME:EST
DTSTART:20261101T060000
END:STANDARD
BEGIN:DAYLIGHT
TZOFFSETFROM:-0500
TZOFFSETTO:-0400
TZNAME:EDT
DTSTART:20270314T070000
END:DAYLIGHT
BEGIN:STANDARD
TZOFFSETFROM:-0400
TZOFFSETTO:-0500
TZNAME:EST
DTSTART:20271107T060000
END:STANDARD
END:VTIMEZONE
BEGIN:VEVENT
DTSTART;TZID=America/New_York:20251204T080000
DTEND;TZID=America/New_York:20251204T093000
DTSTAMP:20260419T145347
CREATED:20251031T192503Z
LAST-MODIFIED:20251113T221657Z
UID:11715-1764835200-1764840600@ctglc.org
SUMMARY:CTGLC Networking Breakfast Hosted and Sponsored by Nutmeg State Finacial Credit Union
DESCRIPTION:Nutmeg State Financial Credit Union\n500 Enterprise Drive\, \n  \nWe will let everyone in and guide them to the boardroom.\nYou’ll have to ring the bell to get in.\nPlease register at CTGLC.org
URL:https://ctglc.org/event/ctglc-networking-breakfast-hosted-and-sponsored-by-nutmeg-state-finacial-credit-union/
LOCATION:CTGLC Networking Breakfast Hosted and Sponsored by Nutmeg State FCU\, 500 Enterprise Drive\, Rocky Hill
ATTACH;FMTTYPE=image/jpeg:https://ctglc.org/wp-content/uploads/2025/03/NutmegState_Logo_Color-1-copy74.jpg-1-scaled.jpeg
END:VEVENT
BEGIN:VEVENT
DTSTART;TZID=America/New_York:20260108T080000
DTEND;TZID=America/New_York:20260108T093000
DTSTAMP:20260419T145347
CREATED:20251031T202703Z
LAST-MODIFIED:20251113T212306Z
UID:11718-1767859200-1767864600@ctglc.org
SUMMARY:CTGLC Networking Breakfast Hosted and Sponsored by AARP
DESCRIPTION:CTGLC Networking Breakfast with AARP \n21 Oak St Suite 104\nHartford CT \nParking is free and under the building \nPlease register at CTGLC.org
URL:https://ctglc.org/event/ctglc-networking-breakfast-hosted-and-sponsored-by-aarp/
LOCATION:CTGLC Networking Breakfast with AARP\, 21 Oak St Suite 104\, Hartford\, CT
ATTACH;FMTTYPE=image/jpeg:https://ctglc.org/wp-content/uploads/2024/10/aarp_CT_4c-logo-.jpg
END:VEVENT
BEGIN:VEVENT
DTSTART;TZID=America/New_York:20260205T080000
DTEND;TZID=America/New_York:20260205T093000
DTSTAMP:20260419T145347
CREATED:20260105T182832Z
LAST-MODIFIED:20260105T183453Z
UID:11786-1770278400-1770283800@ctglc.org
SUMMARY:CTGLC Networking Breakfast hosted and sponsored by Snelgrove's Chocolatier and Florist
DESCRIPTION:CTGLC Networking Breakfast \nHosted and Sponsored by \nSnelgrove’s Chocolatier and Florist\n1695 King  St.\nEnfield CT 06082\nPlease register at CTGLC.org
URL:https://ctglc.org/event/ctglc-networking-breakfast-hosted-and-sponsored-by-snelgroves-chocolatier-and-florist/
LOCATION:CTGLC Networking Breakfast with Snelgrove’s\, 1695 King St\, Enfield\, CT
ATTACH;FMTTYPE=image/jpeg:https://ctglc.org/wp-content/uploads/2026/01/Snelgroves.jpeg
END:VEVENT
BEGIN:VEVENT
DTSTART;TZID=America/New_York:20260305T080000
DTEND;TZID=America/New_York:20260305T093000
DTSTAMP:20260419T145347
CREATED:20251212T140737Z
LAST-MODIFIED:20260107T144819Z
UID:11763-1772697600-1772703000@ctglc.org
SUMMARY:CTGLC Networking Breakfast Hosted and Sponsored by Marrakech
DESCRIPTION:Marrakech\nEmbracing Human Potential \nEast Street Arts \n597 East St. \nNew Haven CT 06511 \n8:00-9:30 AM \nPlease register at CTGLC.org
URL:https://ctglc.org/event/ctglc-networking-breakfast-hosted-and-sponsored-by-marrakech/
LOCATION:CTGLC Networking Breakfast with Marakech\, 597 East Street\, New Haven\, 06511
ATTACH;FMTTYPE=image/jpeg:https://ctglc.org/wp-content/uploads/2025/12/Marakech-Logo.jpeg
END:VEVENT
BEGIN:VEVENT
DTSTART;TZID=America/New_York:20260402T080000
DTEND;TZID=America/New_York:20260402T093000
DTSTAMP:20260419T145347
CREATED:20260212T154810Z
LAST-MODIFIED:20260303T163417Z
UID:11836-1775116800-1775122200@ctglc.org
SUMMARY:CTGLC Networking Breakfast with YWCA New Britain
DESCRIPTION:CTGLC Networking Breakfast With YWCA New Britain \n19 Franklin Square \nNew Britain CT \nApril 2\,2026 \n8:00-9:30 AM \nPlease register at CTGLC.org \n  \n 
URL:https://ctglc.org/event/ctglc-networking-breakfast-with-ywca-new-britain/
LOCATION:CTGLC Networking Breakfast host and sponsored by YWCA New Britain\, 19 Franklin Square\, New Britain. CT 06051
ATTACH;FMTTYPE=image/jpeg:https://ctglc.org/wp-content/uploads/2024/12/YWCA-Logo.jpg
END:VEVENT
BEGIN:VEVENT
DTSTART;TZID=America/New_York:20260414T163000
DTEND;TZID=America/New_York:20260414T180000
DTSTAMP:20260419T145347
CREATED:20251222T202526Z
LAST-MODIFIED:20260414T140430Z
UID:11772-1776184200-1776189600@ctglc.org
SUMMARY:Attention Canceled.  CTGLC / Ocean Community Chamber After hours Hosted and Sponsored by Fairview in Groton
DESCRIPTION:Attention!\nThis event has been postponed please\nlook for the new date soon.\n  \n\nFairview/Chelsea Cottage\n231 Lestertown Road\nGroton CT. 06340\nTuesday April 14\, 2026 \n4:30-6:00 PM \nPlease register at CTGLC.org events
URL:https://ctglc.org/event/ctglc-after-hours-hosted-and-sponsored-by-riverveiw-in-groton/
LOCATION:CTGLC and Ocean Community after hours with Fairveiw\, 231 Lestertown Rd.\, Groton CT.\, CT\, 06340
ATTACH;FMTTYPE=image/jpeg:https://ctglc.org/wp-content/uploads/2025/12/Aprils-Fairveiw-after-hours.jpg
END:VEVENT
BEGIN:VEVENT
DTSTART;TZID=America/New_York:20260423T173000
DTEND;TZID=America/New_York:20260423T190000
DTSTAMP:20260419T145347
CREATED:20260212T153933Z
LAST-MODIFIED:20260303T143433Z
UID:11832-1776965400-1776970800@ctglc.org
SUMMARY:CTGLC After Hours with Hartford Stage
DESCRIPTION:Hartford Stage after hours\nIf you would like to see Native Gardens after the  networking meeting\,\nUse code CTGLC for 20% off your ticket price on Hartford Stage website hartfrodstage.com\nor call\n860-527-5151\nApril 23 2026 \n5:30-7:00 PM \nPlease register for the after hours at ctglc.org
URL:https://ctglc.org/event/ctglc-after-hours-with-hartford-stage/
LOCATION:CTGLC at Hartford Stage\, 5o Church St\, Hartford
ATTACH;FMTTYPE=image/jpeg:https://ctglc.org/wp-content/uploads/2026/02/Hartford-Stage-Native-Gardens-Square-With-Tag.jpg.jpeg
END:VEVENT
BEGIN:VEVENT
DTSTART;TZID=America/New_York:20260507T080000
DTEND;TZID=America/New_York:20260507T093000
DTSTAMP:20260419T145347
CREATED:20260404T125035Z
LAST-MODIFIED:20260404T125035Z
UID:11911-1778140800-1778146200@ctglc.org
SUMMARY:CTGLC Networking Breakfast at the Nutmeg Restaurant and Banquet Facility
DESCRIPTION:CTGLC Networking Breakfast\nHosted and Sponsored by\nNutmeg Restaurant and Banquet Facility\n297 South Main St.\nEast Windsor CT 06088\nPlease register at CTGLC.org
URL:https://ctglc.org/event/ctglc-networking-breakfast-at-the-nutmeg-restaurant-and-banquet-facility-2/
LOCATION:CTGLC Networking Breakfast at the Nutmeg Restaurant\, 297 South Main St\, East Windsor\, CT
ATTACH;FMTTYPE=image/jpeg:https://ctglc.org/wp-content/uploads/2026/04/Nutmeg-Restaurant.jpeg
END:VEVENT
BEGIN:VEVENT
DTSTART;TZID=America/New_York:20260604T080000
DTEND;TZID=America/New_York:20260604T080000
DTSTAMP:20260419T145347
CREATED:20260414T134847Z
LAST-MODIFIED:20260414T134847Z
UID:11890-1780560000-1780560000@ctglc.org
SUMMARY:CTGLC Networking Breakfast with Work_Space
DESCRIPTION:CTGLC Networking Breakfast hosted at \nWork_Space \n903 Main St \nManchester CT 06040 \nJune 4 2026 \n8:00-9:30 AM \nplease register at CTGLC.org \n 
URL:https://ctglc.org/event/ctglc-networking-breakfast-with-work_space-2/
LOCATION:CTGLC Networking Breakfast with Work_Space\, 903 Main Street\, Manchester\, CT
ATTACH;FMTTYPE=image/jpeg:https://ctglc.org/wp-content/uploads/2026/03/Work_Space.jpeg
END:VEVENT
END:VCALENDAR