BEGIN:VCALENDAR
VERSION:2.0
PRODID:-//Connecticut Gay &amp; Lesbian Chamber of Commerce - ECPv6.15.20//NONSGML v1.0//EN
CALSCALE:GREGORIAN
METHOD:PUBLISH
X-WR-CALNAME:Connecticut Gay &amp; Lesbian Chamber of Commerce
X-ORIGINAL-URL:https://ctglc.org
X-WR-CALDESC:Events for Connecticut Gay &amp; Lesbian Chamber of Commerce
REFRESH-INTERVAL;VALUE=DURATION:PT1H
X-Robots-Tag:noindex
X-PUBLISHED-TTL:PT1H
BEGIN:VTIMEZONE
TZID:America/New_York
BEGIN:DAYLIGHT
TZOFFSETFROM:-0500
TZOFFSETTO:-0400
TZNAME:EDT
DTSTART:20240310T070000
END:DAYLIGHT
BEGIN:STANDARD
TZOFFSETFROM:-0400
TZOFFSETTO:-0500
TZNAME:EST
DTSTART:20241103T060000
END:STANDARD
BEGIN:DAYLIGHT
TZOFFSETFROM:-0500
TZOFFSETTO:-0400
TZNAME:EDT
DTSTART:20250309T070000
END:DAYLIGHT
BEGIN:STANDARD
TZOFFSETFROM:-0400
TZOFFSETTO:-0500
TZNAME:EST
DTSTART:20251102T060000
END:STANDARD
BEGIN:DAYLIGHT
TZOFFSETFROM:-0500
TZOFFSETTO:-0400
TZNAME:EDT
DTSTART:20260308T070000
END:DAYLIGHT
BEGIN:STANDARD
TZOFFSETFROM:-0400
TZOFFSETTO:-0500
TZNAME:EST
DTSTART:20261101T060000
END:STANDARD
END:VTIMEZONE
BEGIN:VEVENT
DTSTART;TZID=America/New_York:20251023T173000
DTEND;TZID=America/New_York:20251023T210000
DTSTAMP:20260421T084809
CREATED:20251004T135803Z
LAST-MODIFIED:20251023T125059Z
UID:11655-1761240600-1761253200@ctglc.org
SUMMARY:CT Gay and Lesbian Chamber's Annual Meeting
DESCRIPTION:CT Gay and Lesbian Chamber 2025 Annual Meeting\nOctober 23\, 2025    5:30-9:00 PM\n\nDouble Tree by Hilton Hotels in Bristol\n42 Century Drive\nBristol CT \nTickets. \nMembers $50.00 per person \n Non-Members $60.00 per person 
URL:https://ctglc.org/event/ct-gay-and-lesbian-chambers-annual-meeting/
LOCATION:CTGLC Annual meeting 2025\, 42 Century Drive\, Bristol\, CT\, United States
ATTACH;FMTTYPE=image/jpeg:https://ctglc.org/wp-content/uploads/2025/10/annaul-meeting-photo-5.jpg
END:VEVENT
END:VCALENDAR