BEGIN:VCALENDAR
VERSION:2.0
PRODID:-//Connecticut Gay &amp; Lesbian Chamber of Commerce - ECPv6.15.20//NONSGML v1.0//EN
CALSCALE:GREGORIAN
METHOD:PUBLISH
X-ORIGINAL-URL:https://ctglc.org
X-WR-CALDESC:Events for Connecticut Gay &amp; Lesbian Chamber of Commerce
REFRESH-INTERVAL;VALUE=DURATION:PT1H
X-Robots-Tag:noindex
X-PUBLISHED-TTL:PT1H
BEGIN:VTIMEZONE
TZID:America/New_York
BEGIN:DAYLIGHT
TZOFFSETFROM:-0500
TZOFFSETTO:-0400
TZNAME:EDT
DTSTART:20240310T070000
END:DAYLIGHT
BEGIN:STANDARD
TZOFFSETFROM:-0400
TZOFFSETTO:-0500
TZNAME:EST
DTSTART:20241103T060000
END:STANDARD
BEGIN:DAYLIGHT
TZOFFSETFROM:-0500
TZOFFSETTO:-0400
TZNAME:EDT
DTSTART:20250309T070000
END:DAYLIGHT
BEGIN:STANDARD
TZOFFSETFROM:-0400
TZOFFSETTO:-0500
TZNAME:EST
DTSTART:20251102T060000
END:STANDARD
BEGIN:DAYLIGHT
TZOFFSETFROM:-0500
TZOFFSETTO:-0400
TZNAME:EDT
DTSTART:20260308T070000
END:DAYLIGHT
BEGIN:STANDARD
TZOFFSETFROM:-0400
TZOFFSETTO:-0500
TZNAME:EST
DTSTART:20261101T060000
END:STANDARD
END:VTIMEZONE
BEGIN:VEVENT
DTSTART;TZID=America/New_York:20250731T180000
DTEND;TZID=America/New_York:20250731T210000
DTSTAMP:20260421T130951
CREATED:20250718T142748Z
LAST-MODIFIED:20250718T143516Z
UID:11564-1753984800-1753995600@ctglc.org
SUMMARY:Out Professional and the CT Gay and Lesbian Chamber Network After Hours
DESCRIPTION:Meaningful LGBTQ Networking\nSono 50\n50 Washington St.\nNorwalk CT\nPlease register at: \nhttps://4vaj8feab.cc.rs6.net/tn.jsp?f=001ZGI89mIHpHdpEvfzTLgb1nlCaqvXdFLlUyvjp2bGmLs4Xc6pRjMSsZCqnFmo-81Xn3Dxb9IDr3MhiIolAbaE8aq7B_lZFXAO730dX7q0WMjJRE8wy5hH6R3Jh159d_IP3hA8NwtCQtd2Fi_Br6kGeWYJ8eSQiLrtPS-aCrVowkj4oUHsznocQqmAL6bSC-EbR8CEmDcY1wevUKwWMJb2Md2erX890yCTBjxvLhsjl-oWFIdAMi_TojPqtwMdBy4yolCKhd1hlu_Li3LbRfg1Kw==&c=IqCGMCfbxJZcrcmOr7QtFvZ_hXscgMRw-iNdmacEDFVQ2_GF7qZKVg==&ch=tPt4G4R9OE2lpm384RXVzQN-J3jL0vO4GJhUTqKqC4Sl72JTmczJbg==
URL:https://ctglc.org/event/out-professional-and-the-ct-gay-and-lesbian-chamber-network-after-hours/
LOCATION:OutPro and CTGLC Networking After hours\, 50 Washington St\, Norwalk\, CT\, United States
ATTACH;FMTTYPE=image/jpeg:https://ctglc.org/wp-content/uploads/2025/07/Sono-50.jpg
END:VEVENT
END:VCALENDAR