BEGIN:VCALENDAR
VERSION:2.0
PRODID:-//Connecticut Gay &amp; Lesbian Chamber of Commerce - ECPv6.15.20//NONSGML v1.0//EN
CALSCALE:GREGORIAN
METHOD:PUBLISH
X-ORIGINAL-URL:https://ctglc.org
X-WR-CALDESC:Events for Connecticut Gay &amp; Lesbian Chamber of Commerce
REFRESH-INTERVAL;VALUE=DURATION:PT1H
X-Robots-Tag:noindex
X-PUBLISHED-TTL:PT1H
BEGIN:VTIMEZONE
TZID:America/New_York
BEGIN:DAYLIGHT
TZOFFSETFROM:-0500
TZOFFSETTO:-0400
TZNAME:EDT
DTSTART:20240310T070000
END:DAYLIGHT
BEGIN:STANDARD
TZOFFSETFROM:-0400
TZOFFSETTO:-0500
TZNAME:EST
DTSTART:20241103T060000
END:STANDARD
BEGIN:DAYLIGHT
TZOFFSETFROM:-0500
TZOFFSETTO:-0400
TZNAME:EDT
DTSTART:20250309T070000
END:DAYLIGHT
BEGIN:STANDARD
TZOFFSETFROM:-0400
TZOFFSETTO:-0500
TZNAME:EST
DTSTART:20251102T060000
END:STANDARD
BEGIN:DAYLIGHT
TZOFFSETFROM:-0500
TZOFFSETTO:-0400
TZNAME:EDT
DTSTART:20260308T070000
END:DAYLIGHT
BEGIN:STANDARD
TZOFFSETFROM:-0400
TZOFFSETTO:-0500
TZNAME:EST
DTSTART:20261101T060000
END:STANDARD
END:VTIMEZONE
BEGIN:VEVENT
DTSTART;TZID=America/New_York:20250530T180000
DTEND;TZID=America/New_York:20250530T220000
DTSTAMP:20260425T132541
CREATED:20250305T180426Z
LAST-MODIFIED:20250526T132619Z
UID:11328-1748628000-1748642400@ctglc.org
SUMMARY:CTGLC 3 D's Fundraiser for the CT Gay and Lesbian Chamber and the CTGLC Foundation
DESCRIPTION:CTGLC 3D’s Fundraiser for the CTGLC and the CTGLC Foundation\nDinner\, Drag and Dancing\nNutmeg Restaurant and Banquet Facility.\n297 South Main St.    East Windsor CT 06088\n\n\n\nThank you to our sponsors:\n.                     \n. \n 
URL:https://ctglc.org/event/ctglc-3-ds-fundraiser-for-the-ct-gay-and-lesbian-chamber-and-the-ctglc-foundation/
LOCATION:CTGLC 3D’s Fundraiser for the CTGLC and the CTGLC Foundation\, 297 South Main St\, East Windsor\, CT\, 06088
ATTACH;FMTTYPE=image/jpeg:https://ctglc.org/wp-content/uploads/2025/03/CTGLC-3Ds-short.jpeg
ORGANIZER;CN="CTGLC":MAILTO:info@ctglc.org
END:VEVENT
END:VCALENDAR